BEGIN:VCALENDAR
VERSION:2.0
PRODID:-//Darshan Academy Delhi - ECPv6.0.12//NONSGML v1.0//EN
CALSCALE:GREGORIAN
METHOD:PUBLISH
X-WR-CALNAME:Darshan Academy Delhi
X-ORIGINAL-URL:https://delhi.darshanacademy.org
X-WR-CALDESC:Events for Darshan Academy Delhi
REFRESH-INTERVAL;VALUE=DURATION:PT1H
X-Robots-Tag:noindex
X-PUBLISHED-TTL:PT1H
BEGIN:VTIMEZONE
TZID:America/Los_Angeles
BEGIN:DAYLIGHT
TZOFFSETFROM:-0800
TZOFFSETTO:-0700
TZNAME:PDT
DTSTART:20230312T100000
END:DAYLIGHT
BEGIN:STANDARD
TZOFFSETFROM:-0700
TZOFFSETTO:-0800
TZNAME:PST
DTSTART:20231105T090000
END:STANDARD
BEGIN:DAYLIGHT
TZOFFSETFROM:-0800
TZOFFSETTO:-0700
TZNAME:PDT
DTSTART:20240310T100000
END:DAYLIGHT
BEGIN:STANDARD
TZOFFSETFROM:-0700
TZOFFSETTO:-0800
TZNAME:PST
DTSTART:20241103T090000
END:STANDARD
END:VTIMEZONE
BEGIN:VEVENT
DTSTART;TZID=America/Los_Angeles:20240315T000000
DTEND;TZID=America/Los_Angeles:20240315T000000
DTSTAMP:20260421T151008
CREATED:20230502T004926Z
LAST-MODIFIED:20230502T004926Z
UID:9913-1710460800-1710460800@delhi.darshanacademy.org
SUMMARY:ALPHABET/NUMBER PARTY- GRADE NUR-KG
DESCRIPTION:
URL:https://delhi.darshanacademy.org/event/alphabet-number-party-grade-nur-kg/
CATEGORIES:EVENT
END:VEVENT
BEGIN:VEVENT
DTSTART;TZID=America/Los_Angeles:20240309T000000
DTEND;TZID=America/Los_Angeles:20240309T000000
DTSTAMP:20260421T151008
CREATED:20230502T004926Z
LAST-MODIFIED:20230502T004926Z
UID:9912-1709942400-1709942400@delhi.darshanacademy.org
SUMMARY:PTM (IX-XII) AND ORIENTATION PROGRAMME FOR PARENTS OF GRADE-XII
DESCRIPTION:
URL:https://delhi.darshanacademy.org/event/ptm-ix-xii-and-orientation-programme-for-parents-of-grade-xii/
CATEGORIES:PTM
END:VEVENT
BEGIN:VEVENT
DTSTART;TZID=America/Los_Angeles:20240307T000000
DTEND;TZID=America/Los_Angeles:20240307T000000
DTSTAMP:20260421T151008
CREATED:20230502T004926Z
LAST-MODIFIED:20230502T004926Z
UID:9911-1709769600-1709769600@delhi.darshanacademy.org
SUMMARY:INTERNATIONAL WOMEN'S DAY
DESCRIPTION:
URL:https://delhi.darshanacademy.org/event/international-womens-day/
CATEGORIES:EVENT
END:VEVENT
BEGIN:VEVENT
DTSTART;TZID=America/Los_Angeles:20240306T000000
DTEND;TZID=America/Los_Angeles:20240318T000000
DTSTAMP:20260421T151008
CREATED:20230502T004926Z
LAST-MODIFIED:20230502T004926Z
UID:9910-1709683200-1710720000@delhi.darshanacademy.org
SUMMARY:ASSESSMENT IV (I-V) / TERM II (VI-VIII)
DESCRIPTION:
URL:https://delhi.darshanacademy.org/event/assessment-iv-i-v-term-ii-vi-viii/
CATEGORIES:EXAMINATION
END:VEVENT
BEGIN:VEVENT
DTSTART;TZID=America/Los_Angeles:20240302T000000
DTEND;TZID=America/Los_Angeles:20240302T000000
DTSTAMP:20260421T151008
CREATED:20230502T004926Z
LAST-MODIFIED:20230502T004926Z
UID:9909-1709337600-1709337600@delhi.darshanacademy.org
SUMMARY:WORLD WILDLIFE DAY
DESCRIPTION:
URL:https://delhi.darshanacademy.org/event/world-wildlife-day/
CATEGORIES:EVENT
END:VEVENT
BEGIN:VEVENT
DTSTART;TZID=America/Los_Angeles:20240228T000000
DTEND;TZID=America/Los_Angeles:20240228T000000
DTSTAMP:20260421T151008
CREATED:20230502T004924Z
LAST-MODIFIED:20230502T004924Z
UID:9908-1709078400-1709078400@delhi.darshanacademy.org
SUMMARY:NATIONAL SCIENCE DAY
DESCRIPTION:
URL:https://delhi.darshanacademy.org/event/national-science-day/
CATEGORIES:EVENT
END:VEVENT
BEGIN:VEVENT
DTSTART;TZID=America/Los_Angeles:20240224T000000
DTEND;TZID=America/Los_Angeles:20240224T000000
DTSTAMP:20260421T151008
CREATED:20230502T004924Z
LAST-MODIFIED:20230502T004924Z
UID:9907-1708732800-1708732800@delhi.darshanacademy.org
SUMMARY:4TH SATURDAY
DESCRIPTION:
URL:https://delhi.darshanacademy.org/event/4th-saturday-7/
CATEGORIES:HOLIDAY
END:VEVENT
BEGIN:VEVENT
DTSTART;TZID=America/Los_Angeles:20240221T000000
DTEND;TZID=America/Los_Angeles:20240221T000000
DTSTAMP:20260421T151008
CREATED:20230502T004924Z
LAST-MODIFIED:20230502T004924Z
UID:9906-1708473600-1708473600@delhi.darshanacademy.org
SUMMARY:MOTHER LANGUAGE DAY
DESCRIPTION:
URL:https://delhi.darshanacademy.org/event/mother-language-day/
CATEGORIES:EVENT
END:VEVENT
BEGIN:VEVENT
DTSTART;TZID=America/Los_Angeles:20240214T000000
DTEND;TZID=America/Los_Angeles:20240214T000000
DTSTAMP:20260421T151008
CREATED:20230502T004924Z
LAST-MODIFIED:20230502T004924Z
UID:9905-1707868800-1707868800@delhi.darshanacademy.org
SUMMARY:STORY TELLING COMPETITION (NUR-KG)
DESCRIPTION:
URL:https://delhi.darshanacademy.org/event/story-telling-competition-nur-kg/
CATEGORIES:EVENT
END:VEVENT
BEGIN:VEVENT
DTSTART;TZID=America/Los_Angeles:20240212T000000
DTEND;TZID=America/Los_Angeles:20240226T000000
DTSTAMP:20260421T151008
CREATED:20230502T004924Z
LAST-MODIFIED:20230502T004924Z
UID:9904-1707696000-1708905600@delhi.darshanacademy.org
SUMMARY:ANNUAL EXAMINATION (IX AND XI)
DESCRIPTION:
URL:https://delhi.darshanacademy.org/event/annual-examination-ix-and-xi/
CATEGORIES:EXAMINATION
END:VEVENT
BEGIN:VEVENT
DTSTART;TZID=America/Los_Angeles:20240208T000000
DTEND;TZID=America/Los_Angeles:20240208T000000
DTSTAMP:20260421T151008
CREATED:20230502T004915Z
LAST-MODIFIED:20230502T004915Z
UID:9903-1707350400-1707350400@delhi.darshanacademy.org
SUMMARY:MOCK DRILL-EARTHQUAKE
DESCRIPTION:
URL:https://delhi.darshanacademy.org/event/mock-drill-earthquake-2/
CATEGORIES:EVENT
END:VEVENT
BEGIN:VEVENT
DTSTART;TZID=America/Los_Angeles:20240206T000000
DTEND;TZID=America/Los_Angeles:20240206T000000
DTSTAMP:20260421T151008
CREATED:20230502T004915Z
LAST-MODIFIED:20230502T004915Z
UID:9902-1707177600-1707177600@delhi.darshanacademy.org
SUMMARY:BIRTHDAY OF SANT KIRPAL SINGH JI MAHARAJ
DESCRIPTION:
URL:https://delhi.darshanacademy.org/event/birthday-of-sant-kirpal-singh-ji-maharaj/
CATEGORIES:HOLIDAY
END:VEVENT
BEGIN:VEVENT
DTSTART;TZID=America/Los_Angeles:20240201T000000
DTEND;TZID=America/Los_Angeles:20240205T000000
DTSTAMP:20260421T151008
CREATED:20230502T004914Z
LAST-MODIFIED:20230502T004914Z
UID:9901-1706745600-1707091200@delhi.darshanacademy.org
SUMMARY:KIRPAL WEEK OF LOVING KINDNESS
DESCRIPTION:
URL:https://delhi.darshanacademy.org/event/kirpal-week-of-loving-kindness/
CATEGORIES:EVENT
END:VEVENT
BEGIN:VEVENT
DTSTART;TZID=America/Los_Angeles:20240131T000000
DTEND;TZID=America/Los_Angeles:20240131T000000
DTSTAMP:20260421T151008
CREATED:20230502T004914Z
LAST-MODIFIED:20230502T004914Z
UID:9900-1706659200-1706659200@delhi.darshanacademy.org
SUMMARY:CLUB MEETING
DESCRIPTION:
URL:https://delhi.darshanacademy.org/event/club-meeting-6/
CATEGORIES:EVENT
END:VEVENT
BEGIN:VEVENT
DTSTART;TZID=America/Los_Angeles:20240129T000000
DTEND;TZID=America/Los_Angeles:20240129T000000
DTSTAMP:20260421T151008
CREATED:20230502T004914Z
LAST-MODIFIED:20230502T004914Z
UID:9899-1706486400-1706486400@delhi.darshanacademy.org
SUMMARY:MOCK DRILL-FIRE AND SAFETY
DESCRIPTION:
URL:https://delhi.darshanacademy.org/event/mock-drill-fire-and-safety/
CATEGORIES:EVENT
END:VEVENT
BEGIN:VEVENT
DTSTART;TZID=America/Los_Angeles:20240127T000000
DTEND;TZID=America/Los_Angeles:20240127T000000
DTSTAMP:20260421T151008
CREATED:20230502T004910Z
LAST-MODIFIED:20230502T004910Z
UID:9898-1706313600-1706313600@delhi.darshanacademy.org
SUMMARY:PTM (X - XII)
DESCRIPTION:
URL:https://delhi.darshanacademy.org/event/ptm-x-xii/
CATEGORIES:PTM
END:VEVENT
BEGIN:VEVENT
DTSTART;TZID=America/Los_Angeles:20240127T000000
DTEND;TZID=America/Los_Angeles:20240127T000000
DTSTAMP:20260421T151008
CREATED:20230502T004909Z
LAST-MODIFIED:20230502T004909Z
UID:9897-1706313600-1706313600@delhi.darshanacademy.org
SUMMARY:4TH SATURDAY
DESCRIPTION:
URL:https://delhi.darshanacademy.org/event/4th-saturday-6/
CATEGORIES:HOLIDAY
END:VEVENT
BEGIN:VEVENT
DTSTART;TZID=America/Los_Angeles:20240126T000000
DTEND;TZID=America/Los_Angeles:20240126T000000
DTSTAMP:20260421T151008
CREATED:20230502T004909Z
LAST-MODIFIED:20230502T004909Z
UID:9896-1706227200-1706227200@delhi.darshanacademy.org
SUMMARY:REPUBLIC DAY
DESCRIPTION:
URL:https://delhi.darshanacademy.org/event/republic-day/
CATEGORIES:HOLIDAY
END:VEVENT
BEGIN:VEVENT
DTSTART;TZID=America/Los_Angeles:20240125T000000
DTEND;TZID=America/Los_Angeles:20240125T000000
DTSTAMP:20260421T151008
CREATED:20230502T004909Z
LAST-MODIFIED:20230502T004909Z
UID:9895-1706140800-1706140800@delhi.darshanacademy.org
SUMMARY:REPUBLIC DAY CELEBRATION
DESCRIPTION:
URL:https://delhi.darshanacademy.org/event/republic-day-celebration/
CATEGORIES:EVENT
END:VEVENT
BEGIN:VEVENT
DTSTART;TZID=America/Los_Angeles:20240123T000000
DTEND;TZID=America/Los_Angeles:20240123T000000
DTSTAMP:20260421T151008
CREATED:20230502T004909Z
LAST-MODIFIED:20230502T004909Z
UID:9894-1705968000-1705968000@delhi.darshanacademy.org
SUMMARY:ENGLISH DEBATE- GRADE VI-VIII
DESCRIPTION:
URL:https://delhi.darshanacademy.org/event/english-debate-grade-vi-viii/
CATEGORIES:EVENT
END:VEVENT
BEGIN:VEVENT
DTSTART;TZID=America/Los_Angeles:20240122T000000
DTEND;TZID=America/Los_Angeles:20240122T000000
DTSTAMP:20260421T151008
CREATED:20230502T004854Z
LAST-MODIFIED:20230502T004854Z
UID:9893-1705881600-1705881600@delhi.darshanacademy.org
SUMMARY:CLUB MEETING
DESCRIPTION:
URL:https://delhi.darshanacademy.org/event/club-meeting-5/
CATEGORIES:EVENT
END:VEVENT
BEGIN:VEVENT
DTSTART;TZID=America/Los_Angeles:20240120T000000
DTEND;TZID=America/Los_Angeles:20240120T000000
DTSTAMP:20260421T151008
CREATED:20230502T004854Z
LAST-MODIFIED:20230502T004854Z
UID:9892-1705708800-1705708800@delhi.darshanacademy.org
SUMMARY:FAMILY DAY & GRADUATION CEREMONY OF PRE-PRIMARY
DESCRIPTION:
URL:https://delhi.darshanacademy.org/event/family-day-graduation-ceremony-of-pre-primary/
CATEGORIES:EVENT
END:VEVENT
BEGIN:VEVENT
DTSTART;TZID=America/Los_Angeles:20240118T000000
DTEND;TZID=America/Los_Angeles:20240118T000000
DTSTAMP:20260421T151008
CREATED:20230502T004853Z
LAST-MODIFIED:20230502T004853Z
UID:9891-1705536000-1705536000@delhi.darshanacademy.org
SUMMARY:DANCE COMPETITION GRADE I - II
DESCRIPTION:
URL:https://delhi.darshanacademy.org/event/dance-competition-grade-i-ii/
CATEGORIES:EVENT
END:VEVENT
BEGIN:VEVENT
DTSTART;TZID=America/Los_Angeles:20240117T000000
DTEND;TZID=America/Los_Angeles:20240117T000000
DTSTAMP:20260421T151008
CREATED:20230502T004853Z
LAST-MODIFIED:20230502T004853Z
UID:9890-1705449600-1705449600@delhi.darshanacademy.org
SUMMARY:FANCY DRESS COMPETITION GRADE III - V
DESCRIPTION:
URL:https://delhi.darshanacademy.org/event/fancy-dress-competition-grade-iii-v/
CATEGORIES:EVENT
END:VEVENT
BEGIN:VEVENT
DTSTART;TZID=America/Los_Angeles:20240113T000000
DTEND;TZID=America/Los_Angeles:20240113T000000
DTSTAMP:20260421T151008
CREATED:20230502T004853Z
LAST-MODIFIED:20230502T004853Z
UID:9889-1705104000-1705104000@delhi.darshanacademy.org
SUMMARY:LOHRI CELEBRATION
DESCRIPTION:
URL:https://delhi.darshanacademy.org/event/lohri-celebration/
CATEGORIES:EVENT
END:VEVENT
BEGIN:VEVENT
DTSTART;TZID=America/Los_Angeles:20240109T000000
DTEND;TZID=America/Los_Angeles:20240109T000000
DTSTAMP:20260421T151008
CREATED:20230502T004848Z
LAST-MODIFIED:20230502T004848Z
UID:9888-1704758400-1704758400@delhi.darshanacademy.org
SUMMARY:SCHOOL REOPENS
DESCRIPTION:
URL:https://delhi.darshanacademy.org/event/school-reopens-2/
CATEGORIES:OTHER
END:VEVENT
BEGIN:VEVENT
DTSTART;TZID=America/Los_Angeles:20240106T000000
DTEND;TZID=America/Los_Angeles:20240120T000000
DTSTAMP:20260421T151008
CREATED:20230502T004848Z
LAST-MODIFIED:20230502T004848Z
UID:9887-1704499200-1705708800@delhi.darshanacademy.org
SUMMARY:PRE-BOARD TEST- I (X) / PRE-BOARD TEST II(XII)
DESCRIPTION:
URL:https://delhi.darshanacademy.org/event/pre-board-test-i-x-pre-board-test-iixii/
CATEGORIES:EXAMINATION
END:VEVENT
BEGIN:VEVENT
DTSTART;TZID=America/Los_Angeles:20240105T000000
DTEND;TZID=America/Los_Angeles:20240105T000000
DTSTAMP:20260421T151008
CREATED:20230502T004848Z
LAST-MODIFIED:20230502T004848Z
UID:9886-1704412800-1704412800@delhi.darshanacademy.org
SUMMARY:NATIONAL WORKSHOP ON SPIRITUAL CURRICULUM TEACHING TIPS FOR ALL TEACHERS
DESCRIPTION:
URL:https://delhi.darshanacademy.org/event/national-workshop-on-spiritual-curriculum-teaching-tips-for-all-teachers-2/
CATEGORIES:PROFESSIONAL DEVELOPMENT PROGRAM
END:VEVENT
BEGIN:VEVENT
DTSTART;TZID=America/Los_Angeles:20231231T000000
DTEND;TZID=America/Los_Angeles:20240105T000000
DTSTAMP:20260421T151008
CREATED:20230502T004848Z
LAST-MODIFIED:20230502T004848Z
UID:9885-1703980800-1704412800@delhi.darshanacademy.org
SUMMARY:WINTER BREAK FOR TEACHERS
DESCRIPTION:
URL:https://delhi.darshanacademy.org/event/winter-break-for-teachers/
CATEGORIES:HOLIDAY
END:VEVENT
BEGIN:VEVENT
DTSTART;TZID=America/Los_Angeles:20231230T000000
DTEND;TZID=America/Los_Angeles:20240108T000000
DTSTAMP:20260421T151008
CREATED:20230502T004843Z
LAST-MODIFIED:20230502T004843Z
UID:9883-1703894400-1704672000@delhi.darshanacademy.org
SUMMARY:WINTER BREAK FOR STUDENTS
DESCRIPTION:
URL:https://delhi.darshanacademy.org/event/winter-break-for-students/
CATEGORIES:HOLIDAY
END:VEVENT
END:VCALENDAR