BEGIN:VCALENDAR
VERSION:2.0
PRODID:-//Darshan Academy Delhi - ECPv6.0.12//NONSGML v1.0//EN
CALSCALE:GREGORIAN
METHOD:PUBLISH
X-WR-CALNAME:Darshan Academy Delhi
X-ORIGINAL-URL:https://delhi.darshanacademy.org
X-WR-CALDESC:Events for Darshan Academy Delhi
REFRESH-INTERVAL;VALUE=DURATION:PT1H
X-Robots-Tag:noindex
X-PUBLISHED-TTL:PT1H
BEGIN:VTIMEZONE
TZID:America/Los_Angeles
BEGIN:DAYLIGHT
TZOFFSETFROM:-0800
TZOFFSETTO:-0700
TZNAME:PDT
DTSTART:20230312T100000
END:DAYLIGHT
BEGIN:STANDARD
TZOFFSETFROM:-0700
TZOFFSETTO:-0800
TZNAME:PST
DTSTART:20231105T090000
END:STANDARD
BEGIN:DAYLIGHT
TZOFFSETFROM:-0800
TZOFFSETTO:-0700
TZNAME:PDT
DTSTART:20240310T100000
END:DAYLIGHT
BEGIN:STANDARD
TZOFFSETFROM:-0700
TZOFFSETTO:-0800
TZNAME:PST
DTSTART:20241103T090000
END:STANDARD
END:VTIMEZONE
BEGIN:VEVENT
DTSTART;TZID=America/Los_Angeles:20240113T000000
DTEND;TZID=America/Los_Angeles:20240113T000000
DTSTAMP:20260425T172224
CREATED:20230502T004853Z
LAST-MODIFIED:20230502T004853Z
UID:9889-1705104000-1705104000@delhi.darshanacademy.org
SUMMARY:LOHRI CELEBRATION
DESCRIPTION:
URL:https://delhi.darshanacademy.org/event/lohri-celebration/
CATEGORIES:EVENT
END:VEVENT
BEGIN:VEVENT
DTSTART;TZID=America/Los_Angeles:20240109T000000
DTEND;TZID=America/Los_Angeles:20240109T000000
DTSTAMP:20260425T172224
CREATED:20230502T004848Z
LAST-MODIFIED:20230502T004848Z
UID:9888-1704758400-1704758400@delhi.darshanacademy.org
SUMMARY:SCHOOL REOPENS
DESCRIPTION:
URL:https://delhi.darshanacademy.org/event/school-reopens-2/
CATEGORIES:OTHER
END:VEVENT
BEGIN:VEVENT
DTSTART;TZID=America/Los_Angeles:20240106T000000
DTEND;TZID=America/Los_Angeles:20240120T000000
DTSTAMP:20260425T172224
CREATED:20230502T004848Z
LAST-MODIFIED:20230502T004848Z
UID:9887-1704499200-1705708800@delhi.darshanacademy.org
SUMMARY:PRE-BOARD TEST- I (X) / PRE-BOARD TEST II(XII)
DESCRIPTION:
URL:https://delhi.darshanacademy.org/event/pre-board-test-i-x-pre-board-test-iixii/
CATEGORIES:EXAMINATION
END:VEVENT
BEGIN:VEVENT
DTSTART;TZID=America/Los_Angeles:20240105T000000
DTEND;TZID=America/Los_Angeles:20240105T000000
DTSTAMP:20260425T172224
CREATED:20230502T004848Z
LAST-MODIFIED:20230502T004848Z
UID:9886-1704412800-1704412800@delhi.darshanacademy.org
SUMMARY:NATIONAL WORKSHOP ON SPIRITUAL CURRICULUM TEACHING TIPS FOR ALL TEACHERS
DESCRIPTION:
URL:https://delhi.darshanacademy.org/event/national-workshop-on-spiritual-curriculum-teaching-tips-for-all-teachers-2/
CATEGORIES:PROFESSIONAL DEVELOPMENT PROGRAM
END:VEVENT
BEGIN:VEVENT
DTSTART;TZID=America/Los_Angeles:20231231T000000
DTEND;TZID=America/Los_Angeles:20240105T000000
DTSTAMP:20260425T172224
CREATED:20230502T004848Z
LAST-MODIFIED:20230502T004848Z
UID:9885-1703980800-1704412800@delhi.darshanacademy.org
SUMMARY:WINTER BREAK FOR TEACHERS
DESCRIPTION:
URL:https://delhi.darshanacademy.org/event/winter-break-for-teachers/
CATEGORIES:HOLIDAY
END:VEVENT
BEGIN:VEVENT
DTSTART;TZID=America/Los_Angeles:20231230T000000
DTEND;TZID=America/Los_Angeles:20240108T000000
DTSTAMP:20260425T172224
CREATED:20230502T004843Z
LAST-MODIFIED:20230502T004843Z
UID:9883-1703894400-1704672000@delhi.darshanacademy.org
SUMMARY:WINTER BREAK FOR STUDENTS
DESCRIPTION:
URL:https://delhi.darshanacademy.org/event/winter-break-for-students/
CATEGORIES:HOLIDAY
END:VEVENT
BEGIN:VEVENT
DTSTART;TZID=America/Los_Angeles:20231230T000000
DTEND;TZID=America/Los_Angeles:20231230T000000
DTSTAMP:20260425T172224
CREATED:20230502T004848Z
LAST-MODIFIED:20230502T004848Z
UID:9884-1703894400-1703894400@delhi.darshanacademy.org
SUMMARY:INTERNAL WORKSHOP
DESCRIPTION:
URL:https://delhi.darshanacademy.org/event/internal-workshop/
CATEGORIES:PROFESSIONAL DEVELOPMENT PROGRAM
END:VEVENT
BEGIN:VEVENT
DTSTART;TZID=America/Los_Angeles:20231229T000000
DTEND;TZID=America/Los_Angeles:20231229T000000
DTSTAMP:20260425T172224
CREATED:20230502T004843Z
LAST-MODIFIED:20230502T004843Z
UID:9882-1703808000-1703808000@delhi.darshanacademy.org
SUMMARY:PICNIC NUR - X AND FAREWELL GARDE XI-XII
DESCRIPTION:
URL:https://delhi.darshanacademy.org/event/picnic-nur-x-and-farewell-garde-xi-xii/
CATEGORIES:EVENT
END:VEVENT
BEGIN:VEVENT
DTSTART;TZID=America/Los_Angeles:20231228T000000
DTEND;TZID=America/Los_Angeles:20231228T000000
DTSTAMP:20260425T172224
CREATED:20230502T004843Z
LAST-MODIFIED:20230502T004843Z
UID:9881-1703721600-1703721600@delhi.darshanacademy.org
SUMMARY:THANKS GIVING DAY
DESCRIPTION:
URL:https://delhi.darshanacademy.org/event/thanks-giving-day/
CATEGORIES:EVENT
END:VEVENT
BEGIN:VEVENT
DTSTART;TZID=America/Los_Angeles:20231225T000000
DTEND;TZID=America/Los_Angeles:20231225T000000
DTSTAMP:20260425T172224
CREATED:20230502T004842Z
LAST-MODIFIED:20230502T004842Z
UID:9880-1703462400-1703462400@delhi.darshanacademy.org
SUMMARY:CHRISTMAS
DESCRIPTION:
URL:https://delhi.darshanacademy.org/event/christmas/
CATEGORIES:HOLIDAY
END:VEVENT
BEGIN:VEVENT
DTSTART;TZID=America/Los_Angeles:20231223T000000
DTEND;TZID=America/Los_Angeles:20231223T000000
DTSTAMP:20260425T172224
CREATED:20230502T004842Z
LAST-MODIFIED:20230502T004842Z
UID:9879-1703289600-1703289600@delhi.darshanacademy.org
SUMMARY:4TH SATURDAY
DESCRIPTION:
URL:https://delhi.darshanacademy.org/event/4th-saturday-5/
CATEGORIES:HOLIDAY
END:VEVENT
BEGIN:VEVENT
DTSTART;TZID=America/Los_Angeles:20231222T000000
DTEND;TZID=America/Los_Angeles:20231222T000000
DTSTAMP:20260425T172224
CREATED:20230502T004835Z
LAST-MODIFIED:20230502T004835Z
UID:9878-1703203200-1703203200@delhi.darshanacademy.org
SUMMARY:CHRISTMAS DAY CELEBRATION
DESCRIPTION:
URL:https://delhi.darshanacademy.org/event/christmas-day-celebration/
CATEGORIES:EVENT
END:VEVENT
BEGIN:VEVENT
DTSTART;TZID=America/Los_Angeles:20231221T000000
DTEND;TZID=America/Los_Angeles:20231221T000000
DTSTAMP:20260425T172224
CREATED:20230502T004835Z
LAST-MODIFIED:20230502T004835Z
UID:9877-1703116800-1703116800@delhi.darshanacademy.org
SUMMARY:NATIONAL MATHEMATICS DAY
DESCRIPTION:
URL:https://delhi.darshanacademy.org/event/national-mathematics-day/
CATEGORIES:EVENT
END:VEVENT
BEGIN:VEVENT
DTSTART;TZID=America/Los_Angeles:20231220T000000
DTEND;TZID=America/Los_Angeles:20231220T000000
DTSTAMP:20260425T172224
CREATED:20230502T004835Z
LAST-MODIFIED:20230502T004835Z
UID:9876-1703030400-1703030400@delhi.darshanacademy.org
SUMMARY:KISAN DIWAS AND HINDI DECLAMATION GRADE VI-VIII
DESCRIPTION:
URL:https://delhi.darshanacademy.org/event/kisan-diwas-and-hindi-declamation-grade-vi-viii/
CATEGORIES:EVENT
END:VEVENT
BEGIN:VEVENT
DTSTART;TZID=America/Los_Angeles:20231218T000000
DTEND;TZID=America/Los_Angeles:20231218T000000
DTSTAMP:20260425T172224
CREATED:20230502T004834Z
LAST-MODIFIED:20230502T004834Z
UID:9875-1702857600-1702857600@delhi.darshanacademy.org
SUMMARY:SPIRITUAL TALK FOR TEACHERS BY DEF TEAM
DESCRIPTION:
URL:https://delhi.darshanacademy.org/event/spiritual-talk-for-teachers-by-def-team/
CATEGORIES:PROFESSIONAL DEVELOPMENT PROGRAM
END:VEVENT
BEGIN:VEVENT
DTSTART;TZID=America/Los_Angeles:20231216T000000
DTEND;TZID=America/Los_Angeles:20231216T000000
DTSTAMP:20260425T172224
CREATED:20230502T004834Z
LAST-MODIFIED:20230502T004834Z
UID:9874-1702684800-1702684800@delhi.darshanacademy.org
SUMMARY:PTM (NUR - XII)
DESCRIPTION:
URL:https://delhi.darshanacademy.org/event/ptm-nur-xii-2/
CATEGORIES:PTM
END:VEVENT
BEGIN:VEVENT
DTSTART;TZID=America/Los_Angeles:20231216T000000
DTEND;TZID=America/Los_Angeles:20231216T000000
DTSTAMP:20260425T172224
CREATED:20230502T004826Z
LAST-MODIFIED:20230502T004826Z
UID:9873-1702684800-1702684800@delhi.darshanacademy.org
SUMMARY:ANNUAL PROJECT WEEK EXHIBITION
DESCRIPTION:
URL:https://delhi.darshanacademy.org/event/annual-project-week-exhibition/
CATEGORIES:EVENT
END:VEVENT
BEGIN:VEVENT
DTSTART;TZID=America/Los_Angeles:20231213T000000
DTEND;TZID=America/Los_Angeles:20231215T000000
DTSTAMP:20260425T172224
CREATED:20230502T004826Z
LAST-MODIFIED:20230502T004826Z
UID:9872-1702425600-1702598400@delhi.darshanacademy.org
SUMMARY:ANNUAL PROJECT WEEK
DESCRIPTION:
URL:https://delhi.darshanacademy.org/event/annual-project-week/
CATEGORIES:EVENT
END:VEVENT
BEGIN:VEVENT
DTSTART;TZID=America/Los_Angeles:20231212T000000
DTEND;TZID=America/Los_Angeles:20231212T000000
DTSTAMP:20260425T172224
CREATED:20230502T004826Z
LAST-MODIFIED:20230502T004826Z
UID:9871-1702339200-1702339200@delhi.darshanacademy.org
SUMMARY:CLUB MEETING
DESCRIPTION:
URL:https://delhi.darshanacademy.org/event/club-meeting-4/
CATEGORIES:EVENT
END:VEVENT
BEGIN:VEVENT
DTSTART;TZID=America/Los_Angeles:20231209T000000
DTEND;TZID=America/Los_Angeles:20231209T000000
DTSTAMP:20260425T172224
CREATED:20230502T004826Z
LAST-MODIFIED:20230502T004826Z
UID:9870-1702080000-1702080000@delhi.darshanacademy.org
SUMMARY:HUMAN RIGHTS DAY
DESCRIPTION:
URL:https://delhi.darshanacademy.org/event/human-rights-day/
CATEGORIES:EVENT
END:VEVENT
BEGIN:VEVENT
DTSTART;TZID=America/Los_Angeles:20231208T000000
DTEND;TZID=America/Los_Angeles:20231208T000000
DTSTAMP:20260425T172224
CREATED:20230502T004826Z
LAST-MODIFIED:20230502T004826Z
UID:9869-1701993600-1701993600@delhi.darshanacademy.org
SUMMARY:SHOW AND TELL COMPETITION- NUR-KG
DESCRIPTION:
URL:https://delhi.darshanacademy.org/event/show-and-tell-competition-nur-kg/
CATEGORIES:EVENT
END:VEVENT
BEGIN:VEVENT
DTSTART;TZID=America/Los_Angeles:20231202T000000
DTEND;TZID=America/Los_Angeles:20231209T000000
DTSTAMP:20260425T172224
CREATED:20230502T004816Z
LAST-MODIFIED:20230502T004816Z
UID:9868-1701475200-1702080000@delhi.darshanacademy.org
SUMMARY:ASSESSMENT III (I-V) / PERIODIC TEST II (VI - X AND XI) AND PRE BOARD TEST-I (XII)
DESCRIPTION:
URL:https://delhi.darshanacademy.org/event/assessment-iii-i-v-periodic-test-ii-vi-x-and-xi-and-pre-board-test-i-xii/
CATEGORIES:EXAMINATION
END:VEVENT
BEGIN:VEVENT
DTSTART;TZID=America/Los_Angeles:20231201T000000
DTEND;TZID=America/Los_Angeles:20231201T000000
DTSTAMP:20260425T172224
CREATED:20230502T004815Z
LAST-MODIFIED:20230502T004815Z
UID:9867-1701388800-1701388800@delhi.darshanacademy.org
SUMMARY:WORLD AIDS DAY
DESCRIPTION:
URL:https://delhi.darshanacademy.org/event/world-aids-day/
CATEGORIES:EVENT
END:VEVENT
BEGIN:VEVENT
DTSTART;TZID=America/Los_Angeles:20231130T000000
DTEND;TZID=America/Los_Angeles:20231130T000000
DTSTAMP:20260425T172224
CREATED:20230502T004815Z
LAST-MODIFIED:20230502T004815Z
UID:9865-1701302400-1701302400@delhi.darshanacademy.org
SUMMARY:ENGLISH DEBATE- GRADE IX-XI
DESCRIPTION:
URL:https://delhi.darshanacademy.org/event/english-debate-grade-ix-xi/
CATEGORIES:EVENT
END:VEVENT
BEGIN:VEVENT
DTSTART;TZID=America/Los_Angeles:20231130T000000
DTEND;TZID=America/Los_Angeles:20231130T000000
DTSTAMP:20260425T172224
CREATED:20230502T004815Z
LAST-MODIFIED:20230502T004815Z
UID:9866-1701302400-1701302400@delhi.darshanacademy.org
SUMMARY:MOCK DRILL-FIRE SAFETY
DESCRIPTION:
URL:https://delhi.darshanacademy.org/event/mock-drill-fire-safety-2/
CATEGORIES:EVENT
END:VEVENT
BEGIN:VEVENT
DTSTART;TZID=America/Los_Angeles:20231129T000000
DTEND;TZID=America/Los_Angeles:20231129T000000
DTSTAMP:20260425T172224
CREATED:20230502T004815Z
LAST-MODIFIED:20230502T004815Z
UID:9864-1701216000-1701216000@delhi.darshanacademy.org
SUMMARY:INTER SCHOOL COLOURING COMPETITION
DESCRIPTION:
URL:https://delhi.darshanacademy.org/event/inter-school-colouring-competition/
CATEGORIES:EVENT
END:VEVENT
BEGIN:VEVENT
DTSTART;TZID=America/Los_Angeles:20231127T000000
DTEND;TZID=America/Los_Angeles:20231127T000000
DTSTAMP:20260425T172224
CREATED:20230502T004801Z
LAST-MODIFIED:20230502T004801Z
UID:9863-1701043200-1701043200@delhi.darshanacademy.org
SUMMARY:BIRTHDAY OF SHRI GURU NANAK DEV JI
DESCRIPTION:
URL:https://delhi.darshanacademy.org/event/birthday-of-shri-guru-nanak-dev-ji/
CATEGORIES:HOLIDAY
END:VEVENT
BEGIN:VEVENT
DTSTART;TZID=America/Los_Angeles:20231125T000000
DTEND;TZID=America/Los_Angeles:20231125T000000
DTSTAMP:20260425T172224
CREATED:20230502T004801Z
LAST-MODIFIED:20230502T004801Z
UID:9862-1700870400-1700870400@delhi.darshanacademy.org
SUMMARY:4TH SATURDAY
DESCRIPTION:
URL:https://delhi.darshanacademy.org/event/4th-saturday-4/
CATEGORIES:HOLIDAY
END:VEVENT
BEGIN:VEVENT
DTSTART;TZID=America/Los_Angeles:20231124T000000
DTEND;TZID=America/Los_Angeles:20231124T000000
DTSTAMP:20260425T172224
CREATED:20230502T004801Z
LAST-MODIFIED:20230502T004801Z
UID:9861-1700784000-1700784000@delhi.darshanacademy.org
SUMMARY:GURU NANAK DEV JI'S BIRTHDAY CELEBRATION
DESCRIPTION:
URL:https://delhi.darshanacademy.org/event/guru-nanak-dev-jis-birthday-celebration/
CATEGORIES:EVENT
END:VEVENT
BEGIN:VEVENT
DTSTART;TZID=America/Los_Angeles:20231123T000000
DTEND;TZID=America/Los_Angeles:20231123T000000
DTSTAMP:20260425T172224
CREATED:20230502T004801Z
LAST-MODIFIED:20230502T004801Z
UID:9860-1700697600-1700697600@delhi.darshanacademy.org
SUMMARY:NATIONAL SPIRITUAL TALK FOR PARENTS
DESCRIPTION:
URL:https://delhi.darshanacademy.org/event/national-spiritual-talk-for-parents/
CATEGORIES:PROFESSIONAL DEVELOPMENT PROGRAM
END:VEVENT
END:VCALENDAR